BEGIN:VCALENDAR
VERSION:2.0
PRODID:-//United Tribes Technical College - ECPv6.15.14//NONSGML v1.0//EN
CALSCALE:GREGORIAN
METHOD:PUBLISH
X-ORIGINAL-URL:https://uttc.edu
X-WR-CALDESC:Events for United Tribes Technical College
REFRESH-INTERVAL;VALUE=DURATION:PT1H
X-Robots-Tag:noindex
X-PUBLISHED-TTL:PT1H
BEGIN:VTIMEZONE
TZID:America/Chicago
BEGIN:DAYLIGHT
TZOFFSETFROM:-0600
TZOFFSETTO:-0500
TZNAME:CDT
DTSTART:20230312T080000
END:DAYLIGHT
BEGIN:STANDARD
TZOFFSETFROM:-0500
TZOFFSETTO:-0600
TZNAME:CST
DTSTART:20231105T070000
END:STANDARD
BEGIN:DAYLIGHT
TZOFFSETFROM:-0600
TZOFFSETTO:-0500
TZNAME:CDT
DTSTART:20240310T080000
END:DAYLIGHT
BEGIN:STANDARD
TZOFFSETFROM:-0500
TZOFFSETTO:-0600
TZNAME:CST
DTSTART:20241103T070000
END:STANDARD
BEGIN:DAYLIGHT
TZOFFSETFROM:-0600
TZOFFSETTO:-0500
TZNAME:CDT
DTSTART:20250309T080000
END:DAYLIGHT
BEGIN:STANDARD
TZOFFSETFROM:-0500
TZOFFSETTO:-0600
TZNAME:CST
DTSTART:20251102T070000
END:STANDARD
END:VTIMEZONE
BEGIN:VEVENT
DTSTART;VALUE=DATE:20241111
DTEND;VALUE=DATE:20241112
DTSTAMP:20260419T171223
CREATED:20240612T134627Z
LAST-MODIFIED:20240612T135419Z
UID:45289-1731283200-1731283200@uttc.edu
SUMMARY:NO SCHOOL - Veterans Day
DESCRIPTION:
URL:https://uttc.edu/event/tjes-no-school-veterans-day/
CATEGORIES:TJES
ATTACH;FMTTYPE=image/png:https://uttc.edu/wp-content/uploads/2024/06/TJES-Calendar-11.png
END:VEVENT
BEGIN:VEVENT
DTSTART;VALUE=DATE:20241108
DTEND;VALUE=DATE:20241109
DTSTAMP:20260419T171223
CREATED:20240612T134510Z
LAST-MODIFIED:20240612T135355Z
UID:45286-1731024000-1731024000@uttc.edu
SUMMARY:NO SCHOOL - PTC Day
DESCRIPTION:
URL:https://uttc.edu/event/tjes-no-school-ptc-day/
CATEGORIES:TJES
ATTACH;FMTTYPE=image/png:https://uttc.edu/wp-content/uploads/2024/06/TJES-Calendar-8.png
END:VEVENT
BEGIN:VEVENT
DTSTART;VALUE=DATE:20241014
DTEND;VALUE=DATE:20241015
DTSTAMP:20260419T171223
CREATED:20240612T133038Z
LAST-MODIFIED:20240612T135317Z
UID:45280-1728864000-1728864000@uttc.edu
SUMMARY:NO SCHOOL - Indigenous Day
DESCRIPTION:
URL:https://uttc.edu/event/tjes-no-school-indigenous-day/
CATEGORIES:TJES
ATTACH;FMTTYPE=image/png:https://uttc.edu/wp-content/uploads/2024/06/TJES-Calendar-14.png
END:VEVENT
BEGIN:VEVENT
DTSTART;VALUE=DATE:20240909
DTEND;VALUE=DATE:20240910
DTSTAMP:20260419T171223
CREATED:20240612T132037Z
LAST-MODIFIED:20240612T135751Z
UID:45266-1725840000-1725840000@uttc.edu
SUMMARY:NO SCHOOL - Founders Day
DESCRIPTION:
URL:https://uttc.edu/event/tjes-no-school-founders-day/
CATEGORIES:TJES
ATTACH;FMTTYPE=image/png:https://uttc.edu/wp-content/uploads/2024/06/TJES-Calendar-9.png
END:VEVENT
BEGIN:VEVENT
DTSTART;VALUE=DATE:20240902
DTEND;VALUE=DATE:20240903
DTSTAMP:20260419T171223
CREATED:20240612T131927Z
LAST-MODIFIED:20240612T135550Z
UID:45262-1725235200-1725235200@uttc.edu
SUMMARY:NO SCHOOL - Labor Day
DESCRIPTION:
URL:https://uttc.edu/event/tjes-no-school-labor-day/
CATEGORIES:TJES
ATTACH;FMTTYPE=image/png:https://uttc.edu/wp-content/uploads/2024/06/TJES-Calendar-2.png
END:VEVENT
BEGIN:VEVENT
DTSTART;VALUE=DATE:20240828
DTEND;VALUE=DATE:20240829
DTSTAMP:20260419T171223
CREATED:20240612T131712Z
LAST-MODIFIED:20240612T134302Z
UID:45256-1724803200-1724803200@uttc.edu
SUMMARY:Welcome Back Night
DESCRIPTION:
URL:https://uttc.edu/event/tjes-welcome-back-night/
CATEGORIES:TJES
ATTACH;FMTTYPE=image/png:https://uttc.edu/wp-content/uploads/2024/06/TJES-Calendar-28.png
END:VEVENT
BEGIN:VEVENT
DTSTART;VALUE=DATE:20240821
DTEND;VALUE=DATE:20240822
DTSTAMP:20260419T171223
CREATED:20240611T183716Z
LAST-MODIFIED:20240612T132704Z
UID:45229-1724198400-1724198400@uttc.edu
SUMMARY:First Day of School
DESCRIPTION:
URL:https://uttc.edu/event/tjes-first-day-of-school/
CATEGORIES:TJES
ATTACH;FMTTYPE=image/png:https://uttc.edu/wp-content/uploads/2024/06/TJES-Calendar-21.png
END:VEVENT
END:VCALENDAR